Workbook

Sheet Ø-Bestimmung
A1: Durchmesser-Bestimmung, Drehzahlen
A2: A. Georgi
A3: Eingabefelder sind | D3: gelb | E3: Bemerkungen/Quellen
A4: Hauptergebnisse sind | D4: ocker
C6: Kontrolle: | D6: =D15/2*D28^3*D30*D16*D26*8765/1000 -> 1640.9556
A7: Jahresenergiemenge | C7: kWh | D7: 1640.9556
A8: Preis/kWh | C8: EUR | D8: 0.25 | E8: Eigenverbrauch oder Zählerrücklauf
A9: Preissteigerung/Jahr | B9: p | C9: % | D9: 6 | E9: 2006 bis 2011 | G9: Chronik
A10: Ertrag im 1. Jahr | B10: R | C10: EUR | D10: =D7*D8 -> 410.23891
A11: Zinsfaktor | B11: q | D11: =1+D9/100 -> 1.06
A12: Ertragszeitraum | B12: n | C12: a | D12: 10
A13: Ertrag/Ertragszeitraum | C13: EUR | D13: =D10*(D11^D12-1)/(D11-1) -> 5407.2749 | E13: Sparkassenformel | G13: A. Georgi
A15: Dichte | B15: r | C15: kg/m³ | D15: 1.225
A16: Weibull-Erhöhungsfaktor | D16: 1.8 | G16: s. Bild 1
A17: Schnelllaufzahl | B17: l; TSR | D17: 4.2934276
A19: durchschnittliche Gleitzahl | B19: e | D19: 40 | H19: Bild 1 | J19: Weibull-Erhöhungsfaktor
A20: aerodyn. Cp | D20: 0.44 | E20: nach Bild 5.25 und 5.10 (Gasch)
A22: Generator-Cp | D22: 0.8355615 | E22: Nennlast | F22: geschätzt
A23: Wechselrichter | D23: 0.85 | E23: Nennlast | F23: geschätzt
A24: Ableitungs-Verlustbeiwert | D24: 0.96 | E24: Nennlast | F24: geschätzt
A25: elektrischer Cp | D25: =D22*D23*D24 -> 0.68181818
A26: Gesamt-Cp | D26: =D20*D25 -> 0.3
A28: Jahres-Mittelwind | B28: Vm | C28: m/s | D28: 3.5 | E28: nach Messungen oder | G28: Globalwindatlas
A30: Wirkfläche | C30: m² | D30: =D$7*1000/8765/(D$15/2)/D28^3/D$26/D$16 -> 13.202037 | E30: Zugabe [%] | F30: =PI()/4*F31^2 -> 13.202037
A31: Rotor-Ø | C31: m | D31: =SQRT(4/PI()*D30) -> 4.0999213 | E31: 0 | F31: =D31+D31*E31/100 -> 4.0999213 | H31: k
H32: 1.8333333 | L32: I_ref | M32: A/mm² | N32: 4.5
A33: Am Ausgang: | B33: Wind- Geschwindig- keit | C33: Leistung
C34: aerodyn. | D34: gesamt | F34: Drehfrequenz | G34: Drehzahl
B35: Vw | C35: Paer | D35: P | E35: P_WR in | F35: fn | G35: n | H35: U-leer | I35: U-leer | J35: U (DC) | K35: U (AC) | L35: I DC | M35: I (AC) | N35: A | O35: d
B36: m/s | C36: W | D36: W | E36: W | F36: s-1 | G36: min-1 | H36: V DC | I36: V AC | J36: V | K36: V | L36: A | M36: A | N36: mm² | O36: mm
B37: 2 | C37: =D$15/2*B37^3*PI()/4*D$31^2*D$20 -> 28.463591 | D37: =C37*D$25 -> 19.406994 | E37: =C37*D$22*D$24 -> 22.831757 | F37: =D$17*B37/PI()/F$31 -> 0.66666667 | G37: =F37*60 -> 40 | H37: =G37*H$32 -> 73.333333 | I37: =H37/1.35 -> 54.320988 | J37: =H37-(0.17*H37) -> 60.866667 | K37: =J37/1.35 -> 45.08642 | L37: =E37/J37 -> 0.37511102 | M37: =L37/1.27 -> 0.29536301
B38: 3 | C38: =D$15/2*B38^3*PI()/4*D$31^2*D$20 -> 96.064619 | D38: =C38*D$25 -> 65.498604 | E38: =C38*D$22*D$24 -> 77.057181 | F38: =D$17*B38/PI()/F$31 -> 1 | G38: =F38*60 -> 60 | H38: =G38*H$32 -> 110 | I38: =H38/1.35 -> 81.481481 | J38: =H38-(0.17*H38) -> 91.3 | K38: =J38/1.35 -> 67.62963 | L38: =E38/J38 -> 0.84399979 | M38: =L38/1.27 -> 0.66456676
B39: 4 | C39: =D$15/2*B39^3*PI()/4*D$31^2*D$20 -> 227.70873 | D39: =C39*D$25 -> 155.25595 | E39: =C39*D$22*D$24 -> 182.65406 | F39: =D$17*B39/PI()/F$31 -> 1.3333333 | G39: =F39*60 -> 80 | H39: =G39*H$32 -> 146.66667 | I39: =H39/1.35 -> 108.64198 | J39: =H39-(0.17*H39) -> 121.73333 | K39: =J39/1.35 -> 90.17284 | L39: =E39/J39 -> 1.5004441 | M39: =L39/1.27 -> 1.181452
B40: 4 | C40: =D$15/2*B40^3*PI()/4*D$31^2*D$20 -> 227.70873 | D40: =C40*D$25 -> 155.25595 | E40: =C40*D$22*D$24 -> 182.65406 | F40: =D$17*B40/PI()/F$31 -> 1.3333333 | G40: =F40*60 -> 80 | H40: =G40*H$32 -> 146.66667 | I40: =H40/1.35 -> 108.64198 | J40: =H40-(0.17*H40) -> 121.73333 | K40: =J40/1.35 -> 90.17284 | L40: =E40/J40 -> 1.5004441 | M40: =L40/1.27 -> 1.181452
A41: WindMaxx 500 | B41: 5 | C41: =D$15/2*B41^3*PI()/4*D$31^2*D$20 -> 444.74361 | D41: =C41*D$25 -> 303.23428 | E41: =C41*D$22*D$24 -> 356.74621 | F41: =D$17*B41/PI()/F$31 -> 1.6666667 | G41: =F41*60 -> 100 | H41: =G41*H$32 -> 183.33333 | I41: =H41/1.35 -> 135.80247 | J41: =H41-(0.17*H41) -> 152.16667 | K41: =J41/1.35 -> 112.71605 | L41: =E41/J41 -> 2.3444439 | M41: =L41/1.27 -> 1.8460188
B42: 6 | C42: =D$15/2*B42^3*PI()/4*D$31^2*D$20 -> 768.51695 | D42: =C42*D$25 -> 523.98883 | E42: =C42*D$22*D$24 -> 616.45745 | F42: =D$17*B42/PI()/F$31 -> 2 | G42: =F42*60 -> 120 | H42: =G42*H$32 -> 220 | I42: =H42/1.35 -> 162.96296 | J42: =H42-(0.17*H42) -> 182.6 | K42: =J42/1.35 -> 135.25926 | L42: =E42/J42 -> 3.3759992 | M42: =L42/1.27 -> 2.6582671
B43: 7 | C43: =D$15/2*B43^3*PI()/4*D$31^2*D$20 -> 1220.3765 | D43: =C43*D$25 -> 832.07485 | E43: =C43*D$22*D$24 -> 978.91159 | F43: =D$17*B43/PI()/F$31 -> 2.3333333 | G43: =F43*60 -> 140 | H43: =G43*H$32 -> 256.66667 | I43: =H43/1.35 -> 190.12346 | J43: =H43-(0.17*H43) -> 213.03333 | K43: =J43/1.35 -> 157.80247 | L43: =E43/J43 -> 4.59511 | M43: =L43/1.27 -> 3.6181968 | P43: gilt nur für HAWT !
A44: WR Win 1500 - 160 | B44: 8 | C44: =D$15/2*B44^3*PI()/4*D$31^2*D$20 -> 1821.6698 | D44: =C44*D$25 -> 1242.0476 | E44: =C44*D$22*D$24 -> 1461.2325 | F44: =D$17*B44/PI()/F$31 -> 2.6666667 | G44: =F44*60 -> 160 | H44: =G44*H$32 -> 293.33333 | I44: =H44/1.35 -> 217.28395 | J44: =H44-(0.17*H44) -> 243.46667 | K44: =J44/1.35 -> 180.34568 | L44: =E44/J44 -> 6.0017763 | M44: =L44/1.27 -> 4.7258081
B45: 9 | C45: =D$15/2*B45^3*PI()/4*D$31^2*D$20 -> 2593.7447 | D45: =C45*D$25 -> 1768.4623 | E45: =C45*D$22*D$24 -> 2080.5439 | F45: =D$17*B45/PI()/F$31 -> 3 | G45: =F45*60 -> 180 | H45: =G45*H$32 -> 330 | I45: =H45/1.35 -> 244.44444 | J45: =H45-(0.17*H45) -> 273.9 | K45: =J45/1.35 -> 202.88889 | L45: =E45/J45 -> 7.5959981 | M45: =L45/1.27 -> 5.9811009 | N45: =M45/N32 -> 1.3291335 | O45: =2*N45/3.14 -> 0.84658186 | P45: e = Gleitzahl der Profile bei Streckung ∞, gemittelt, bei zu wählendem Anstellwinkel
A46: WindMaxx 2000 + Red.Trafo | B46: 10 | C46: =D$15/2*B46^3*PI()/4*D$31^2*D$20 -> 3557.9488 | D46: =C46*D$25 -> 2425.8742 | E46: =C46*D$22*D$24 -> 2853.9697 | F46: =D$17*B46/PI()/F$31 -> 3.3333333 | G46: =F46*60 -> 200 | H46: =G46*H$32 -> 366.66667 | I46: =H46/1.35 -> 271.60494 | J46: =H46-(0.17*H46) -> 304.33333 | K46: =J46/1.35 -> 225.4321 | L46: =E46/J46 -> 9.3777754 | M46: =L46/1.27 -> 7.3840751
B47: 11 | C47: =D$15/2*B47^3*PI()/4*D$31^2*D$20 -> 4735.6299 | D47: =C47*D$25 -> 3228.8386 | E47: =C47*D$22*D$24 -> 3798.6336 | F47: =D$17*B47/PI()/F$31 -> 3.6666667 | G47: =F47*60 -> 220 | H47: =G47*H$32 -> 403.33333 | I47: =H47/1.35 -> 298.76543 | J47: =H47-(0.17*H47) -> 334.76667 | K47: =J47/1.35 -> 247.97531 | L47: =E47/J47 -> 11.347108 | M47: =L47/1.27 -> 8.9347309 | P47: Z = Blattanzahl
B48: 12 | C48: =D$15/2*B48^3*PI()/4*D$31^2*D$20 -> 6148.1356 | D48: =C48*D$25 -> 4191.9106 | E48: =C48*D$22*D$24 -> 4931.6596 | F48: =D$17*B48/PI()/F$31 -> 4 | G48: =F48*60 -> 240 | H48: =G48*H$32 -> 440 | I48: =H48/1.35 -> 325.92593 | J48: =H48-(0.17*H48) -> 365.2 | K48: =J48/1.35 -> 270.51852 | L48: =E48/J48 -> 13.503997 | M48: =L48/1.27 -> 10.633068
B49: 13 | C49: =D$15/2*B49^3*PI()/4*D$31^2*D$20 -> 7816.8136 | D49: =C49*D$25 -> 5329.6456 | F49: =D$17*B49/PI()/F$31 -> 4.3333333 | G49: =F49*60 -> 260 | P49: Bildreferenz: Gasch, Windkraftanlagen, 1996
B50: 14 | C50: =D$15/2*B50^3*PI()/4*D$31^2*D$20 -> 9763.0116 | D50: =C50*D$25 -> 6656.5988 | F50: =D$17*B50/PI()/F$31 -> 4.6666667 | G50: =F50*60 -> 280
B51: 15 | C51: =D$15/2*B51^3*PI()/4*D$31^2*D$20 -> 12008.077 | D51: =C51*D$25 -> 8187.3255 | F51: =D$17*B51/PI()/F$31 -> 5 | G51: =F51*60 -> 300
H100: Profildaten für Flügelstreckung ∞ ! Re-Zahl vermutlich 400 000
A102: Ebene 5: Profilauswahl in Anlehnung an Propellerbau | H102: Bildreferenz: Gasch, Windkraftanlagen, 1996
A103: Ebene 4: Modifizierung des Anstellwinkels
A105: Bildreferenz: Horst Schulze, Luftschrauben für Modellantriebe, Transpress-Verlag 1980
A106: A. Georgi

Sheet Schmitz
A1: Auslegung nach Schmitz | O1: Solidity
A2: A. Georgi | H2: Eingabefelder sind: | K2: gelb | O2: %
A3: l | B3: ='Ø-Bestimmung'!D17 -> 4.2934276 | C3: Schnelllaufzahl | G3: handkorrigierte Werte sind: | K3: rot | O3: =AVERAGE(O10:O20)/1000*F4*B5/'Ø-Bestimmung'!F30*100 -> 13.99987 | P3: Re-Zahl und Streckung
A4: Ø in m | B4: ='Ø-Bestimmung'!F31 -> 4.0999213 | C4: Rotor-Ø | E4: R in m | F4: =B4/2 -> 2.0499607 | N4: Stapelhöhe ca. | O4: Blattbreite ca. | Q4: vw in m/s
A5: Z | B5: 3 | C5: Blattanzahl | Q5: 7
H6: Profildaten nach Xfoil Simulation mit Qblade
E7: Anström- Winkel | G7: Profil | H7: Anstell- Winkel | J7: Gleit- zahl | L7: Einbau- Winkel | M7: Profilbreite | Q7: Anströ- mung | S7: Streckung
A8: r/R | B8: lr | C8: r | D8: a1 | E8: a | F8: a | H8: b | I8: ca | J8: k | K8: cw | L8: g = a-b | M8: tr Schmitz (5.63) | N8: Hr | O8: Br | P8: c1 | Q8: c | R8: Re-Zahl
A9: - | B9: - | C9: mm | D9: ° | E9: ° | F9: ( | H9: ° | I9: - | J9: - | K9: - | L9: ° | M9: mm | N9: mm | O9: mm | P9: m/s | Q9: m/s | R9: *1000 | S9: -
A10: 1 | B10: =B$3*A10 -> 4.2934276 | C10: =A10*F$4*1000 -> 2049.9607 | D10: =ATAN(1/A10/B$3)*180/PI() -> 13.111242 | E10: =2/3*D10 -> 8.7408283 | F10: =RADIANS(E10) -> 0.15255623 | G10: NACA 4412 | H10: 3.5 | I10: 0.85 | L10: =E10-H10 -> 5.2408283 | M10: =1000*16*PI()*C10/1000/B$5/I10*(SIN((1/3*D10*PI()/180)))^2 -> 234.65654 | O10: =COS(RADIANS(L10))*M10 -> 233.67557 | P10: =Q$5/(SIN(RADIANS($D10))) -> 30.858427 | Q10: =$P10*(COS(RADIANS($D10-$E10))) -> 30.768698 | R10: =Q10*M10/1000/0.000015/1000 -> 481.33841
A11: 0.9 | B11: =B$3*A11 -> 3.8640848 | C11: =A11*F$4*1000 -> 1844.9646 | D11: =ATAN(1/A11/B$3)*180/PI() -> 14.509446 | E11: =2/3*D11 -> 9.6729643 | F11: =RADIANS(E11) -> 0.16882508 | G11: NACA 4412 | H11: 4 | I11: 0.9 | L11: =E11-H11 -> 5.6729643 | M11: =1000*16*PI()*C11/1000/B$5/I11*(SIN((1/3*D11*PI()/180)))^2 -> 244.16099 | O11: =COS(RADIANS(L11))*M11 -> 242.96517 | P11: =Q$5/(SIN(RADIANS($D11))) -> 27.939693 | Q11: =P11*(COS(RADIANS(D11-E11))) -> 27.84021 | R11: =Q11*M11/1000/0.000015/1000 -> 453.16622
A12: 0.8 | B12: =B$3*A12 -> 3.4347421 | C12: =A12*F$4*1000 -> 1639.9685 | D12: =ATAN(1/A12/B$3)*180/PI() -> 16.232532 | E12: =2/3*D12 -> 10.821688 | F12: =RADIANS(E12) -> 0.18887409 | G12: NACA 4412 | H12: 4 | I12: 0.9 | L12: =E12-H12 -> 6.8216881 | M12: =1000*16*PI()*C12/1000/B$5/I12*(SIN((1/3*D12*PI()/180)))^2 -> 271.47818 | O12: =COS(RADIANS(L12))*M12 -> 269.55628 | P12: =Q$5/(SIN(RADIANS($D12))) -> 25.04147 | Q12: =P12*(COS(RADIANS(D12-E12))) -> 24.929888 | R12: =Q12*M12/1000/0.000015/1000 -> 451.19471
A13: 0.7 | B13: =B$3*A13 -> 3.0053993 | C13: =A13*F$4*1000 -> 1434.9725 | D13: =ATAN(1/A13/B$3)*180/PI() -> 18.404063 | E13: =2/3*D13 -> 12.269375 | F13: =RADIANS(E13) -> 0.214141 | G13: NACA 4412 | H13: 4 | I13: 0.9 | L13: =E13-H13 -> 8.2693754 | M13: =1000*16*PI()*C13/1000/B$5/I13*(SIN((1/3*D13*PI()/180)))^2 -> 305.09078 | O13: =COS(RADIANS(L13))*M13 -> 301.91869 | P13: =Q$5/(SIN(RADIANS($D13))) -> 22.171802 | Q13: =P13*(COS(RADIANS(D13-E13))) -> 22.044834 | R13: =Q13*M13/1000/0.000015/1000 -> 448.37837
A14: 0.6 | B14: =B$3*A14 -> 2.5760565 | C14: =A14*F$4*1000 -> 1229.9764 | D14: =ATAN(1/A14/B$3)*180/PI() -> 21.215726 | E14: =2/3*D14 -> 14.143817 | F14: =RADIANS(E14) -> 0.24685618 | G14: NACA 4412 | H14: 4 | I14: 0.9 | L14: =E14-H14 -> 10.143817 | M14: =1000*16*PI()*C14/1000/B$5/I14*(SIN((1/3*D14*PI()/180)))^2 -> 347.07582 | O14: =COS(RADIANS(L14))*M14 -> 341.6506 | P14: =Q$5/(SIN(RADIANS($D14))) -> 19.343405 | Q14: =P14*(COS(RADIANS(D14-E14))) -> 19.196248 | R14: =Q14*M14/1000/0.000015/1000 -> 444.17023
A15: 0.5 | B15: =B$3*A15 -> 2.1467138 | C15: =A15*F$4*1000 -> 1024.9803 | D15: =ATAN(1/A15/B$3)*180/PI() -> 24.977435 | E15: =2/3*D15 -> 16.651624 | F15: =RADIANS(E15) -> 0.29062566 | G15: NACA 4412 | H15: 4 | I15: 0.9 | L15: =E15-H15 -> 12.651624 | M15: =1000*16*PI()*C15/1000/B$5/I15*(SIN((1/3*D15*PI()/180)))^2 -> 400.10184 | O15: =COS(RADIANS(L15))*M15 -> 390.3873 | P15: =Q$5/(SIN(RADIANS($D15))) -> 16.577413 | Q15: =P15*(COS(RADIANS(D15-E15))) -> 16.402698 | R15: =Q15*M15/1000/0.000015/1000 -> 437.51665
A16: 0.4 | B16: =B$3*A16 -> 1.717371 | C16: =A16*F$4*1000 -> 819.98427 | D16: =ATAN(1/A16/B$3)*180/PI() -> 30.211616 | E16: =2/3*D16 -> 20.141078 | F16: =RADIANS(E16) -> 0.35152812 | G16: NACA 4412 | H16: 4 | I16: 0.9 | L16: =E16-H16 -> 16.141078 | M16: =1000*16*PI()*C16/1000/B$5/I16*(SIN((1/3*D16*PI()/180)))^2 -> 466.76139 | N16: =SIN(RADIANS(L16))*M16 -> 129.76126 | O16: =COS(RADIANS(L16))*M16 -> 448.3617 | P16: =Q$5/(SIN(RADIANS($D16))) -> 13.911103 | Q16: =P16*(COS(RADIANS(D16-E16))) -> 13.696778 | R16: =Q16*M16/1000/0.000015/1000 -> 426.20848
A17: 0.3 | B17: =B$3*A17 -> 1.2880283 | C17: =A17*F$4*1000 -> 614.9882 | D17: =ATAN(1/A17/B$3)*180/PI() -> 37.825066 | E17: =2/3*D17 -> 25.216711 | F17: =RADIANS(E17) -> 0.44011463 | G17: NACA 4414 | H17: 4 | I17: 0.9 | L17: =E17-H17 -> 21.216711 | M17: =1000*16*PI()*C17/1000/B$5/I17*(SIN((1/3*D17*PI()/180)))^2 -> 545.53533 | N17: =SIN(RADIANS(L17))*M17 -> 197.42731 | O17: =COS(RADIANS(L17))*M17 -> 508.55801 | P17: =Q$5/(SIN(RADIANS($D17))) -> 11.414544 | Q17: =P17*(COS(RADIANS(D17-E17))) -> 11.139282 | R17: =Q17*M17/1000/0.000015/1000 -> 405.12479 | S17: =(C$10-C17)/AVERAGE(M$10:M17) -> 4.0782761
A18: 0.25 | B18: =B$3*A18 -> 1.0733569 | C18: =A18*F$4*1000 -> 512.49017 | D18: =ATAN(1/A18/B$3)*180/PI() -> 42.973678 | E18: =2/3*D18 -> 28.649119 | F18: =RADIANS(E18) -> 0.50002145 | G18: NACA 4416 | H18: 4 | I18: 0.9 | L18: =E18-H18 -> 24.649119 | M18: =1000*16*PI()*C18/1000/B$5/I18*(SIN((1/3*D18*PI()/180)))^2 -> 584.0384 | N18: =SIN(RADIANS(L18))*M18 -> 243.57912 | O18: =COS(RADIANS(L18))*M18 -> 530.82018 | P18: =Q$5/(SIN(RADIANS($D18))) -> 10.269014 | Q18: =P18*(COS(RADIANS(D18-E18))) -> 9.9497483 | R18: =Q18*M18/1000/0.000015/1000 -> 387.40234
A19: 0.2 | B19: =B$3*A19 -> 0.85868552 | C19: =A19*F$4*1000 -> 409.99213 | D19: =ATAN(1/A19/B$3)*180/PI() -> 49.347791 | E19: =2/3*D19 -> 32.898527 | F19: =RADIANS(E19) -> 0.57418762 | H19: 4 | I19: 0.9 | L19: =E19-H19 -> 28.898527 | N19: =SIN(RADIANS(L19))*M19 -> 0 | O19: =COS(RADIANS(L19))*M19 -> 0 | P19: =Q$5/(SIN(RADIANS($D19))) -> 9.2265757 | Q19: =P19*(COS(RADIANS(D19-E19))) -> 8.8489399 | R19: =Q19*M19/1000/0.000015/1000 -> 0 | S19: =(C$10-C19)/AVERAGE(M$10:M19) -> 4.342499
A20: 0.1 | B20: =B$3*A20 -> 0.42934276 | C20: =A20*F$4*1000 -> 204.99607 | D20: =ATAN(1/A20/B$3)*180/PI() -> 66.764084 | E20: =2/3*D20 -> 44.509389 | F20: =RADIANS(E20) -> 0.77683539 | H20: 4 | I20: 0.9 | L20: =E20-H20 -> 40.509389 | M20: 50 | O20: =COS(RADIANS(L20))*M20 -> 38.014976 | P20: =Q$5/(SIN(RADIANS($D20))) -> 7.6179016 | Q20: =P20*(COS(RADIANS(D20-E20))) -> 7.0504401 | R20: =Q20*M20/1000/0.000015/1000 -> 23.501467 | S20: =(C$10-C20)/AVERAGE(M$10:M20) -> 5.3494302
I21: =AVERAGE(I10:I20) -> 0.89545455 | M21: =AVERAGE(M10:M20) -> 344.88993
H41: (5.63) | L41: a1 = | M41: arctan (R/r*1/l) | R41: (nach 5.58)
L44: a = | M44: 2/3*a1 | R44: (5.57)
I47: Gleichungen nach Gasch, Windkraftanlagen, 1996
C82: A. Georgi

Sheet Betz
A1: Auslegung nach Betz | O1: Solidity
A2: A. Georgi | F2: Eingabefelder sind: | I2: gelb | O2: %
A3: l | B3: =Schmitz!B3 -> 4.2934276 | C3: Schnelllaufzahl | F3: handkorrigierte Werte sind: | I3: rot | O3: =AVERAGE(O10:O20)/1000*E4*B5/'Ø-Bestimmung'!F30*100 -> 15.832553
A4: Ø in m | B4: =Schmitz!B4 -> 4.0999213 | C4: Rotor-Ø | D4: R in m | E4: =B4/2 -> 2.0499607 | F4: sonstige Werte mit Tabelle "Schmitz" verknüpft | N4: Stapelhöhe ca. | O4: Blattbreite ca. | Q4: vw in m/s
A5: Z | B5: =Schmitz!B5 -> 3 | C5: Blattanzahl | Q5: 7
C7: Anström- Winkel | F7: Profil | G7: Anstell- Winkel | L7: Einbau- Winkel | M7: Profilbreite | P7: Anströ- mung | R7: Streckung
A8: r/R | B8: r | C8: tana | D8: a | E8: a | G8: b | H8: ca | J8: k | K8: cw | L8: g = a-b | M8: t_r (5.36) | N8: Hr | O8: Br | P8: vres | Q8: Re-Zahl
B9: mm | D9: ( | E9: ° | G9: ° | J9: - | K9: - | L9: ° | M9: mm | N9: mm | O9: mm | P9: m/s | Q9: *1000
A10: 1 | B10: =A10*E$4*1000 -> 2049.9607 | C10: =2/3/A10/B$3 -> 0.15527609 | D10: =ATAN(C10) -> 0.15404591 | E10: =D10*180/PI() -> 8.8261802 | F10: =Schmitz!G10 -> NACA 4412 | G10: =Schmitz!H10 -> 3.5 | H10: =Schmitz!I10 -> 0.85 | L10: =E10-G10 -> 5.3261802 | M10: =2*PI()*E$4/B$5*8/9/H10/B$3/SQRT(B$3^2*A10^2+4/9)*1000 -> 240.68608 | O10: =COS(RADIANS(L10))*M10 -> 239.64689 | P10: =2/3*Q$5/SIN(D10) -> 30.414146 | Q10: =P10*M10/1000/0.000015/1000 -> 488.01743
A11: 0.9 | B11: =A11*E$4*1000 -> 1844.9646 | C11: =2/3/A11/B$3 -> 0.17252899 | D11: =ATAN(C11) -> 0.17084708 | E11: =D11*180/PI() -> 9.7888169 | F11: =Schmitz!G11 -> NACA 4412 | G11: =Schmitz!H11 -> 4 | H11: =Schmitz!I11 -> 0.9 | L11: =E11-G11 -> 5.7888169 | M11: =2*PI()*E$4/B$5*8/9/H11/B$3/SQRT(B$3^2*A11^2+4/9)*1000 -> 251.87728 | O11: =COS(RADIANS(L11))*M11 -> 250.59281 | P11: =2/3*Q$5/SIN(D11) -> 27.448209 | Q11: =P11*M11/1000/0.000015/1000 -> 460.90535
A12: 0.8 | B12: =A12*E$4*1000 -> 1639.9685 | C12: =2/3/A12/B$3 -> 0.19409512 | D12: =ATAN(C12) -> 0.1917114 | E12: =D12*180/PI() -> 10.984254 | F12: =Schmitz!G12 -> NACA 4412 | G12: =Schmitz!H12 -> 4 | H12: =Schmitz!I12 -> 0.9 | L12: =E12-G12 -> 6.9842538 | M12: =2*PI()*E$4/B$5*8/9/H12/B$3/SQRT(B$3^2*A12^2+4/9)*1000 -> 282.28032 | O12: =COS(RADIANS(L12))*M12 -> 280.18569 | P12: =2/3*Q$5/SIN(D12) -> 24.491896 | Q12: =P12*M12/1000/0.000015/1000 -> 460.90535
A13: 0.7 | B13: =A13*E$4*1000 -> 1434.9725 | C13: =2/3/A13/B$3 -> 0.22182299 | D13: =ATAN(C13) -> 0.21828847 | E13: =D13*180/PI() -> 12.507008 | F13: =Schmitz!G13 -> NACA 4412 | G13: =Schmitz!H13 -> 4 | H13: =Schmitz!I13 -> 0.9 | L13: =E13-G13 -> 8.5070081 | M13: =2*PI()*E$4/B$5*8/9/H13/B$3/SQRT(B$3^2*A13^2+4/9)*1000 -> 320.82819 | O13: =COS(RADIANS(L13))*M13 -> 317.29837 | P13: =2/3*Q$5/SIN(D13) -> 21.549167 | Q13: =P13*M13/1000/0.000015/1000 -> 460.90535
A14: 0.6 | B14: =A14*E$4*1000 -> 1229.9764 | C14: =2/3/A14/B$3 -> 0.25879349 | D14: =ATAN(C14) -> 0.25323761 | E14: =D14*180/PI() -> 14.509446 | F14: =Schmitz!G14 -> NACA 4412 | G14: =Schmitz!H14 -> 4 | H14: =Schmitz!I14 -> 0.9 | L14: =E14-G14 -> 10.509446 | M14: =2*PI()*E$4/B$5*8/9/H14/B$3/SQRT(B$3^2*A14^2+4/9)*1000 -> 371.16981 | O14: =COS(RADIANS(L14))*M14 -> 364.94338 | P14: =2/3*Q$5/SIN(D14) -> 18.626462 | Q14: =P14*M14/1000/0.000015/1000 -> 460.90535
A15: 0.5 | B15: =A15*E$4*1000 -> 1024.9803 | C15: =2/3/A15/B$3 -> 0.31055219 | D15: =ATAN(C15) -> 0.30110937 | E15: =D15*180/PI() -> 17.252296 | F15: =Schmitz!G15 -> NACA 4412 | G15: =Schmitz!H15 -> 4 | H15: =Schmitz!I15 -> 0.9 | L15: =E15-G15 -> 13.252296 | M15: =2*PI()*E$4/B$5*8/9/H15/B$3/SQRT(B$3^2*A15^2+4/9)*1000 -> 439.37755 | O15: =COS(RADIANS(L15))*M15 -> 427.67695 | P15: =2/3*Q$5/SIN(D15) -> 15.734942 | Q15: =P15*M15/1000/0.000015/1000 -> 460.90535
A16: 0.4 | B16: =A16*E$4*1000 -> 819.98427 | C16: =2/3/A16/B$3 -> 0.38819024 | D16: =ATAN(C16) -> 0.37028427 | E16: =D16*180/PI() -> 21.215726 | F16: =Schmitz!G16 -> NACA 4412 | G16: =Schmitz!H16 -> 4 | H16: =Schmitz!I16 -> 0.9 | L16: =E16-G16 -> 17.215726 | M16: =2*PI()*E$4/B$5*8/9/H16/B$3/SQRT(B$3^2*A16^2+4/9)*1000 -> 536.11919 | N16: =SIN(RADIANS(L16))*M16 -> 158.67532 | O16: =COS(RADIANS(L16))*M16 -> 512.09953 | P16: =2/3*Q$5/SIN(D16) -> 12.895603 | Q16: =P16*M16/1000/0.000015/1000 -> 460.90535 | R16: =(B$10-B16)/AVERAGE(M$10:M16) -> 3.5252424
A17: 0.3 | B17: =A17*E$4*1000 -> 614.9882 | C17: =2/3/A17/B$3 -> 0.51758698 | D17: =ATAN(C17) -> 0.477618 | E17: =D17*180/PI() -> 27.365496 | F17: =Schmitz!G17 -> NACA 4414 | G17: =Schmitz!H17 -> 4 | H17: =Schmitz!I17 -> 0.9 | L17: =E17-G17 -> 23.365496 | M17: =2*PI()*E$4/B$5*8/9/H17/B$3/SQRT(B$3^2*A17^2+4/9)*1000 -> 680.98525 | N17: =SIN(RADIANS(L17))*M17 -> 270.07544 | O17: =COS(RADIANS(L17))*M17 -> 625.14012 | P17: =2/3*Q$5/SIN(D17) -> 10.15232 | Q17: =P17*M17/1000/0.000015/1000 -> 460.90535 | R17: =(B$10-B17)/AVERAGE(M$10:M17) -> 3.6755012
A18: 0.25 | B18: =A18*E$4*1000 -> 512.49017 | C18: =2/3/A18/B$3 -> 0.62110438 | D18: =ATAN(C18) -> 0.55579306 | E18: =D18*180/PI() -> 31.844597 | F18: =Schmitz!G18 -> NACA 4416 | G18: =Schmitz!H18 -> 4 | H18: =Schmitz!I18 -> 0.9 | L18: =E18-G18 -> 27.844597 | M18: =2*PI()*E$4/B$5*8/9/H18/B$3/SQRT(B$3^2*A18^2+4/9)*1000 -> 781.65505 | N18: =SIN(RADIANS(L18))*M18 -> 365.09155 | O18: =COS(RADIANS(L18))*M18 -> 691.15322 | P18: =2/3*Q$5/SIN(D18) -> 8.844797 | Q18: =P18*M18/1000/0.000015/1000 -> 460.90535 | R18: =(B$10-B18)/AVERAGE(M$10:M18) -> 3.5434853
A19: 0.2 | B19: =A19*E$4*1000 -> 409.99213 | C19: =2/3/A19/B$3 -> 0.77638047 | D19: =ATAN(C19) -> 0.66017195 | E19: =D19*180/PI() -> 37.825066 | F19: =Schmitz!G19 -> 0 | G19: =Schmitz!H19 -> 4 | H19: =Schmitz!I19 -> 0.9 | L19: =E19-G19 -> 33.825066 | N19: =SIN(RADIANS(L19))*M19 -> 0 | O19: =COS(RADIANS(L19))*M19 -> 0 | P19: =2/3*Q$5/SIN(D19) -> 7.6096963 | Q19: =P19*M19/1000/0.000015/1000 -> 0 | R19: =(B$10-B19)/AVERAGE(M$10:M19) -> 3.7797176
A20: 0.1 | B20: =A20*E$4*1000 -> 204.99607 | C20: =2/3/A20/B$3 -> 1.5527609 | D20: =ATAN(C20) -> 0.99864061 | E20: =D20*180/PI() -> 57.217892 | F20: =Schmitz!G20 -> 0 | G20: =Schmitz!H20 -> 4 | H20: =Schmitz!I20 -> 0.9 | L20: =E20-G20 -> 53.217892 | M20: 50 | N20: =SIN(RADIANS(L20))*M20 -> 40.04592 | O20: =COS(RADIANS(L20))*M20 -> 29.938676 | P20: =2/3*Q$5/SIN(D20) -> 5.5506939 | Q20: =P20*M20/1000/0.000015/1000 -> 18.502313 | R20: =(B$10-B20)/AVERAGE(M$10:M20) -> 4.6649166
I41: (5.26) | K41: Gleichungen nach Gasch, Windkraftanlagen, 1996
Q51: A. Georgi
